BEGIN:VCALENDAR
VERSION:2.0
PRODID:-//ScholarNet - ECPv6.11.2.1//NONSGML v1.0//EN
CALSCALE:GREGORIAN
METHOD:PUBLISH
X-WR-CALNAME:ScholarNet
X-ORIGINAL-URL:https://myscholarnet.com
X-WR-CALDESC:Events for ScholarNet
REFRESH-INTERVAL;VALUE=DURATION:PT1H
X-Robots-Tag:noindex
X-PUBLISHED-TTL:PT1H
BEGIN:VTIMEZONE
TZID:America/Chicago
BEGIN:DAYLIGHT
TZOFFSETFROM:-0600
TZOFFSETTO:-0500
TZNAME:CDT
DTSTART:20230312T080000
END:DAYLIGHT
BEGIN:STANDARD
TZOFFSETFROM:-0500
TZOFFSETTO:-0600
TZNAME:CST
DTSTART:20231105T070000
END:STANDARD
END:VTIMEZONE
BEGIN:VEVENT
DTSTART;TZID=America/Chicago:20230629T080000
DTEND;TZID=America/Chicago:20230702T110000
DTSTAMP:20260421T113741
CREATED:20230605T164100Z
LAST-MODIFIED:20230605T164203Z
UID:10984-1688025600-1688295600@myscholarnet.com
SUMMARY:NASFAA 2023 National Conference
DESCRIPTION:
URL:https://myscholarnet.com/event/nasfaa-2023-national-conference/
LOCATION:San Diego\, CA\, San Diego\, CA\, United States
END:VEVENT
END:VCALENDAR